Workbook
Name _ftnref1: Mobilitet!#REF!
Name _Hlk72404721: Arealbruk!$E$19

Sheet Om verktøyet
I2: utviklet for Trondheim kommune av
B6: Klimanorm Sluppen
B8: Høringsversjon - Verktøy
B23: Vennligst legg inn data for arealer av nybygg og eksisterende bygg her:
B24: 0 | C24: Nybygg | H24: =IF($B$43=0," ",B24/(B24+B25)) | I24: =B24/SUM(B24:B25) -> #DIV/0!
B25: 0 | C25: Eksisterende bygg som skal bevares / rehabiliteres | H25: =IF($B$43=0," ",B25/$B$43) | I25: =B25/(B24+B25) -> #DIV/0! | J25: =B25+B26 -> 0
B26: 0 | C26: Eksisterende bygg som rives | H26: =IF($B$43=0," ",B26/$B$43)
B43: =SUM(B24:B26) -> 0

Sheet Mobilitet
G3: Mobilitet
G5: =(C17*C18)+(C25*C26)+(C33*C34)+(C41*C42)+(C49*C50)+(C57*C58) -> 0
G7: vektet total poengsum | J7: 4.5 | L7: mulig
J8: =G5 -> 0 | L8: actual
J9: =J7-G5 -> 4.5 | L9: coverup at the top
E17: Bilrestriktive tiltak
C18: 0.3 | E18: Begrensning av bruk av privatbil gjennom bilrestriktive tiltak.
F19: 0 | G19: poeng | H19: Ingen tiltak utover krav i KDP
F20: 1 | G20: poeng | H20: Parkeringsdekning 10% lavere enn makskravet i KDP.
F21: 2 | G21: poeng | H21: Parkeringsdekning 20% lavere enn makskravet i KDP.
F22: 3 | G22: poeng | H22: Parkeringsdekning 30% lavere enn makskravet i KDP.
F23: 4 | G23: poeng | H23: Som for 3 poeng og det er kortere avstand til kollektivknutepunkt enn til privat/reservert parkering.
E25: Gangvennlig utforming
C26: 0.15 | E26: Legge til rette for trygge, effektive og attraktive gangveier. Basert på sjekklist av tiltak og vurdering beskrevet i veiledningen.
F27: 0 | G27: poeng | H27: Gangvegnettet er utformet med tanke på trygghet, sikkerhet, komfort og tilrettelagt for vedlikehold sommer og vinter.
F28: 1 | G28: poeng | H28: Gangvegnettet er utformet med tanke på trygghet, sikkerhet, komfort og tilrettelagt for vedlikehold sommer og vinter. I tillegg er minst 7 av punktene i sjekklisten oppfylt.
F29: 2 | G29: poeng | H29: Gangvegnettet er utformet med tanke på trygghet, sikkerhet, komfort og tilrettelagt for vedlikehold sommer og vinter. I tillegg er minst 8 av punktene i sjekklisten oppfylt.
F30: 3 | G30: poeng | H30: Gangvegnettet er utformet med tanke på trygghet, sikkerhet, komfort og tilrettelagt for vedlikehold sommer og vinter. I tillegg er minst 9 av punktene i sjekklisten oppfylt.
F31: 4 | G31: poeng | H31: Gangvegnettet er utformet med tanke på trygghet, sikkerhet, komfort og tilrettelagt for vedlikehold sommer og vinter. I tillegg er alle punktene i sjekklisten oppfylt.
E33: Sykkelvennlig utforming
C34: 0.15 | E34: Legge til rette for syklende som erstatning for motorisert ferdsel.
F35: 0 | G35: poeng | H35: Ingen spesielle tiltak/ dokumentasjon utover krav i KPA
F36: 1 | G36: poeng | H36: Mobilitetsplan som kartlegger og adresserer behov. Sykkelvegnettet i området henger sammen med det omkringliggende sykkelvegnettet. Sykkelvegnettet er utformet med tanke på trygghet, sikkerhet, komfort og tilrettelagt for vedlikehold sommer og vinter.
F37: 2 | G37: poeng | H37: Som for 1 poeng, og i tillegg: Antall sykkelparkeringsplasser er 10% høyere enn minstekravet i KDP og punkt 1-4 i sjekklisten er minst oppfylt.
F38: 3 | G38: poeng | H38: Som for 1 poeng, og i tillegg: Antall sykkelparkeringsplasser er 20% høyere enn minstekravet i KDP, punkt 1-4 i sjekklisten er oppfylt, i tillegg til minst 2 av de øvrige punktene.
F39: 4 | G39: poeng | H39: Som for 1 poeng, og i tillegg: Antall sykkelparkeringsplasser er 30% høyere enn minstekravet i KDP, og alle punktene i sjekklisten er oppfylt.
E41: Tilgang til service- og rekreasjonstilbud
C42: 0.15 | E42: Sikre god tilgang til service- og rekreasjonstilbud i nærområdet.
F43: 0 | G43: poeng | H43: Ingen tilbud innenfor gåavstand fra boliger.
F44: 1 | G44: poeng | H44: Mer enn 3 ulike tilbud innen gåavstand, hvorav 1 skal være skole eller barnehage.
F45: 2 | G45: poeng | H45: Mer enn 4 ulike tilbud innen gåavstand, hvorav 1 skal være skole eller barnehage.
F46: 3 | G46: poeng | H46: Mer enn 5 ulike tilbud innen gåavstand, hvorav 1 skal være skole eller barnehage.
F47: 4 | G47: poeng | H47: Mer enn 7 ulike tilbud innen gåavstand, hvorav 1 skal være skole eller barnehage.
E49: Tilgang til kollektivtransport
C50: 0.15 | E50: Sikre god tilgang til kollektivtransport. Både avstand til kollektivknutepunkt (holdeplass) og reisetiden er av betydning.
F51: 0 | G51: poeng | H51: Mer enn 500 meter til eksisterende / vedtatt holdeplass.
F52: 1 | G52: poeng | H52: Mindre enn 500 m meter til eksisterende / vedtatt holdeplass med minst 4 avgang per time
F53: 2 | G53: poeng | H53: Mindre enn 500 meter til eksisterende / vedtatt holdeplass med minst 8 avganger per time, samt 5 minutters frekvens i rushtid.
F54: 3 | G54: poeng | H54: Mindre enn 400 meter til eksisterende / vedtatt holdeplass med minst 8 avganger per time, samt maks 5 minutters frekvens i rushtid.
F55: 4 | G55: poeng | H55: Mindre enn 300 meter til eksisterende / vedtatt holdeplass med minst 8 avganger per time, samt maks 5 minutters frekvens i rushtid.
E57: Innovasjonspoeng: Mobilitet
C58: 0.1 | E58: Oppmuntre til innovative løsninger for grønn mobilitet.
F59: 0 | G59: poeng | H59: Ingen spesielle tiltak
F60: 1 | G60: poeng | H60: 2 eller flere innovative tiltak med bakgrunn i mobilitetsplan.
F61: 2 | G61: poeng | H61: 3 eller flere innovative tiltak med bakgrunn i mobilitetsplan.
F62: 3 | G62: poeng | H62: 4 eller flere innovative tiltak med bakgrunn i mobilitetsplan.
F63: 4 | G63: poeng | H63: 5 eller flere innovative tiltak med bakgrunn i mobilitetsplan.

Sheet Arealbruk
G3: Arealbruk
G5: =(C17*C18)+(C26*C27)+(C34*C35)+(C42*C43)+(C50*C51) -> 0
G7: vektet total poengsum | J7: 4.5 | K7: mulig
J8: =G5 -> 0 | K8: actual
J9: =J7-G5 -> 4.5 | K9: coverup at the top
E17: Grønnstruktur som karbonlager (arealbruksendring)
C18: 0.4 | E18: Minimere utslipp fra arealbruk gjennom å tilrettelegge for grøntstruktur som karbonlager.
E19: GOF: Grønn overflatefaktor, beregnes iht. dokumentet fra Byplankontoret (2013), se veiledning.
F20: 0 | G20: poeng | H20: GOF er minst 0,3
F21: 1 | G21: poeng | H21: GOF er minst 0,4
F22: 2 | G22: poeng | H22: GOF er minst 0,5
F23: 3 | G23: poeng | H23: GOF er minst 0,6
F24: 4 | G24: poeng | H24: GOF er minst 0,7
E26: Attraktive uteområder
C27: 0.25 | E27: Bevisstgjøring og sikring av faktorer som bidrar til å øke kvalitet på uterom. Høyeste poeng gis ved høy grad av måloppnåelse på alle kontrollspørsmålene i veiledningen.
F28: 0 | G28: poeng | H28: Stiller krav til uterom i tråd med KDP
F29: 1 | G29: poeng | H29: Middels grad av måloppnåelse på kontrollspørsmål
F30: 2 | G30: poeng | H30: Høy grad av måloppnåelse på kontrollspørsmål, og minimum 0,3 i blågrønn faktor
F31: 3 | G31: poeng | H31: Høy grad av måloppnåelse på kontrollspørsmål, og minimum 0,7 i blågrønn faktor.
F32: 4 | G32: poeng | H32: Høy grad av måloppnåelse på kontrollspørsmål, minimum 0,7 i blågrønn faktor og lokalklimaanalyse som dokumenterer kvaliteten på tilrettelagte uterom med evt. avbøtende tiltak.
E34: Høy befolkningstetthet
C35: 0.25 | E35: Sikre høy tetthet i områder med lokalisering som gir grunnlag for høy andel grønne reiser, og styrke grunnlag for tjenester som gjør at flere får tilfredsstilt daglige behov innen området
F36: 0 | G36: poeng | H36: Under 130% BRA
F37: 1 | G37: poeng | H37: Over 130% BRA
F38: 2 | G38: poeng | H38: Over 160% BRA
F39: 3 | G39: poeng | H39: Over 180% BRA
F40: 4 | G40: poeng | H40: Mer enn 200% BRA
E42: Innovasjonspoeng: Fellesfunksjoner
C43: 0.05 | E43: Å oppmuntre til tilrettelegging for fellesfunksjoner som kan bidra til redusert forbruk, gode nabolag og redusert arealbruk per person i boligområder.
F44: 0 | G44: poeng | H44: Ingen tilrettelegging
F45: 1 | G45: poeng | H45: Prosjektet tilrettelegger for minimum forsamlingsrom med kjøkken, overnattingsrom og verkstedrom.
F46: 2 | G46: poeng | H46: Prosjektet tilrettelegger for minimum 3 m2 fellesareal per boenhet til fellesfunksjoner.
F47: 3 | G47: poeng | H47: Prosjektet tilrettelegger for minimum 10 m2 fellesareal per boenhet til fellesfunksjoner.
F48: 4 | G48: poeng | H48: Prosjektet tilrettelegger for minimum 15 m² fellesareal per boenhet.
E50: Innovasjonspoeng: Beregning av utslipp/opptak av klimagasser fra arealbruksendring
C51: 0.05 | E51: Å minimere utslipp fra arealbruksendring og tilrettelegge for grøntstruktur som karbonlager, samt å fremme kunnskap.
F52: 0 | G52: poeng | H52: Ingen analyse gjort
F53: 1 | G53: poeng | H53: Beregning utført, men viser økte utslipp som følge av utbyggingen.
F54: 2 | G54: poeng | H54: Beregning viser ingen økte utslipp som følge av utbyggingen
F55: 3 | G55: poeng | H55: Netto opptak av CO2e ift. før utbyggingen
F56: 4 | G56: poeng | H56: Betydelig netto opptak av CO2e ift. før utbyggingen.

Sheet Energi
G3: Energi
G5: =(C20*C21)+(C27*C28)+(C34*C35)+(C42*C43)+(C66*C67)+(C50*C51)+(C58*C59) -> 0
G7: vektet total poengsum | J7: 4.5 | K7: mulig
J8: =G5 -> 0 | K8: actual
J9: =J7-G5 -> 4.5 | K9: coverup at the top
J11: Nybygg
J12: Eksisterende bygg
E17: Energieffektive bygg
E18: Begrense byggenes netto energibehov. Skalaen for nybygg er noe mer ambisiøs enn skalaen for eksisterende bygg, da det som
E19: regel er enklere å redusere energibehovet ved nybygg. Velg bygningstype for skalaen under.
E20: Nybygg
C21: =IF('Om verktøyet'!$B$43=0,20%,'Om verktøyet'!H24*0.2) -> 0.2 | F21: 0 | G21: poeng | H21: =IF($E$20="Nybygg","Netto energibehov for byggene tilsvarer nivå i gjeldende TEK.","Ingen tiltak.") -> Netto energibehov for byggene tilsvarer nivå i gjeldende TEK.
F22: 1 | G22: poeng | H22: =IF($E$20="Nybygg","Netto energibehov er minst 5% lavere enn gjeldende TEK","Minst 10% lavere energibehov enn før transformasjon. ") -> Netto energibehov er minst 5% lavere enn gjeldende TEK
F23: 2 | G23: poeng | H23: =IF($E$20="Nybygg","Netto energibehov er minst 10% lavere enn gjeldende TEK. ","Minst 20% lavere energibehov enn før transformasjon. ") -> Netto energibehov er minst 10% lavere enn gjeldende TEK.
F24: 3 | G24: poeng | H24: =IF($E$20="Nybygg","Passivhusnivå eller energibehov 30% lavere enn TEK-nivå (hvis lavere).","Oppgradert til TEK-nivå eller bedre.") -> Passivhusnivå eller energibehov 30% lavere enn TEK-nivå (hvis lavere).
F25: 4 | G25: poeng | H25: =IF($E$20="Nybygg","Passivhusnivå og system for formålsdelt energimåling og visualisering av energibruk i drift.","Oppgradert til passivhus-nivå eller bedre. System for formålsdelt energimåling og visualisering av energibruk i drift. ") -> Passivhusnivå og system for formålsdelt energimåling og visualisering av energibruk i drift.
E27: Eksisterende bygg
C28: =IF('Om verktøyet'!$B$43=0,0%,('Om verktøyet'!B25/('Om verktøyet'!B25+'Om verktøyet'!B24))*0.2) -> 0 | F28: 0 | G28: poeng | H28: =IF($E$27="Nybygg","Netto energibehov for byggene tilsvarer nivå i gjeldende TEK.","Ingen tiltak.") -> Ingen tiltak.
F29: 1 | G29: poeng | H29: =IF($E$27="Nybygg","Netto energibehov er minst 5% lavere enn gjeldende TEK","Minst 10% lavere energibehov enn før transformasjon. ") -> Minst 10% lavere energibehov enn før transformasjon.
F30: 2 | G30: poeng | H30: =IF($E$27="Nybygg","Netto energibehov er minst 10% lavere enn gjeldende TEK. ","Minst 20% lavere energibehov enn før transformasjon. ") -> Minst 20% lavere energibehov enn før transformasjon.
F31: 3 | G31: poeng | H31: =IF($E$27="Nybygg","Passivhusnivå eller energibehov 30% lavere enn TEK-nivå (hvis lavere).","Oppgradert til TEK-nivå eller bedre.") -> Oppgradert til TEK-nivå eller bedre.
F32: 4 | G32: poeng | H32: =IF($E$27="Nybygg","Passivhusnivå og system for formålsdelt energimåling og visualisering av energibruk i drift.","Oppgradert til passivhus-nivå eller bedre. System for formålsdelt energimåling og visualisering av energibruk i drift. ") -> Oppgradert til passivhus-nivå eller bedre. System for formålsdelt energimåling og visualisering av energibruk i drift.
E34: Lavutslipp energiforsyning
C35: 0.3 | E35: Oppfordre til bruk av energiforsyningsløsninger som har lav klimaeffekt i et livsløpsperspektiv.
F36: 0 | G36: poeng | H36: Ingen spesielle tiltak for reduksjon av utslipp fra energiforsyning utover krav i TEK.
F37: 1 | G37: poeng | H37: Løsninger for lavutslipp energiforsyning er utredet iht. BREEAM-NOR Ene04 (1 poeng)
F38: 2 | G38: poeng | H38: Løsninger for lavutslipp energiforsyning er utredet iht. BREEAM-NOR Ene04 (2 poeng)
F39: 3 | G39: poeng | H39: Nivået ZEB-O-EQ eller bedre er oppnådd for området som helhet
F40: 4 | G40: poeng | H40: Nivået ZEB-O eller bedre er oppnådd for området som helhet
E42: Lokal fornybar energiproduksjon
C43: 0.1 | E43: Oppfordre til utnyttelse av fornybare energikilder og spillvarmekilder i området.
F44: 0 | G44: poeng | H44: Ingen lokal fornybar energiforsyning
F45: 1 | G45: poeng | H45: Lokal fornybar energiforsyning og/eller spillvarme dekker minst 10% av energibruken i området
F46: 2 | G46: poeng | H46: Lokal fornybar energiforsyning og/eller spillvarme dekker minst 20% av energibruken i området
F47: 3 | G47: poeng | H47: Lokal fornybar energiforsyning og/eller spillvarme dekker minst 50% av energibruken i området
F48: 4 | G48: poeng | H48: Lokal fornybar energiforsyning og/eller spillvarme dekker 100% av energibruken i området
E50: Felles infrastruktur for energi
C51: 0.1 | E51: Legge til rette for bruk av felles infrastruktur for energi i området. Basert på sjekkliste med tiltak beskrevet i veiledningen:
F52: 0 | G52: poeng | H52: Ingen spesielle tiltak utover krav i KDP.
F53: 1 | G53: poeng | H53: n/a
F54: 2 | G54: poeng | H54: Punkt 1 i sjekklisten er utført.
F55: 3 | G55: poeng | H55: Punkt 1 og 2 i sjekklisten er utført.
F56: 4 | G56: poeng | H56: Punkt 1, 2 og 3 i sjekklisten er utført.
E58: Infrastruktur for å redusere effektbehov
C59: 0.1 | E59: Reduksjon av effektbehovet for å begrense behovet for utbygging av mer nettkapasitet. Basert på sjekkliste med tiltak beskrevet i veiledningen:
F60: 0 | G60: poeng | H60: Ingen effektreduserende tiltak.
F61: 1 | G61: poeng | H61: Punkt 1 i sjekklisten er utført.
F62: 2 | G62: poeng | H62: Punkt 1 i sjekklisten er utført og for punkt 2 er det spesifisert løsninger som i noen grad reduserer effektbehovet.
F63: 3 | G63: poeng | H63: Punkt 1 i sjekklisten er utført og for punkt 2 er det spesifisert løsninger som i ganske stor grad reduserer effektbehovet.
F64: 4 | G64: poeng | H64: Punkt 1 i sjekklisten er utført og for punkt 2 er det spesifisert løsninger som i stor grad reduserer effektbehovet. I tillegg er punkt 3 i sjekklisten utført.
E66: Lavutslipp energibruk i anleggsfasen
C67: 0.1 | E67: Oppfordre til å minimere utslipp fra energibruk i anleggsfasen. Basert på sjekkliste med tiltak beskrevet i veiledningen:
F68: 0 | G68: poeng | H68: Ingen spesielle tiltak
F69: 1 | G69: poeng | H69: Punkt 1 og 2 i sjekklisten er valgt
F70: 2 | G70: poeng | H70: Punkt 1-3 i sjekklisten er valgt
F71: 3 | G71: poeng | H71: Punkt 1-4 i sjekklisten er valgt
F72: 4 | G72: poeng | H72: Punkt 1-5 i sjekklisten er valgt
E74: Innovasjonspoeng: Energi
C75: 0.1 | E75: Oppmuntre til innovative løsninger for å redusere klimagassutslipp fra energibruk.
F76: 0 | G76: poeng | H76: Ingen spesielle tiltak
F77: 1 | G77: poeng | H77: 1 eller flere innovative tiltak
F78: 2 | G78: poeng | H78: 2 eller flere innovative tiltak
F79: 3 | G79: poeng | H79: 3 eller flere innovative tiltak
F80: 4 | G80: poeng | H80: 4 eller flere innovative tiltak

Sheet Materialer
G3: Materialer
G5: =(C17*C18)+(C28*C29)+(C44*C45)+(C36*C37)+(C52*C53)+C60*C61 -> 0
G7: vektet total poengsum | J7: 4.5 | K7: mulig
J8: =G5 -> 0 | K8: actual
J9: =J7-G5 -> 4.5 | K9: coverup at the top
K10: =E17 -> Lavutslipp materialbruk | L10: =E26 -> Gjenbruk av eksisterende bygg* | M10: =E36 -> Gjenbruk av bygg i fremtiden | N10: =E44 -> Gjenbruk av materialer i fremtiden | O10: =E52 -> Avfalls- og massehåndtering på byggeplass | P10: =E60 -> Innovasjonspoeng: Materialer | Q10: TOTAL
H11: (nybygg) | J11: Ingen eks. bygninger på tomten | K11: =0.7*('Om verktøyet'!B24/SUM('Om verktøyet'!B24:B26)) -> #DIV/0! | L11: =0*('Om verktøyet'!B24/SUM('Om verktøyet'!B24:B26)) -> #DIV/0! | M11: =0.1*('Om verktøyet'!B24/SUM('Om verktøyet'!B24:B26)) -> #DIV/0! | N11: =0.05*('Om verktøyet'!B24/SUM('Om verktøyet'!B24:B26)) -> #DIV/0! | O11: =0.1*('Om verktøyet'!B24/SUM('Om verktøyet'!B24:B26)) -> #DIV/0! | P11: =0.05*('Om verktøyet'!B24/SUM('Om verktøyet'!B24:B26)) -> #DIV/0! | Q11: =SUM(K11:P11) -> #DIV/0!
J12: Eksisterende bygg | K12: =35%*(('Om verktøyet'!B25+'Om verktøyet'!B26)/SUM('Om verktøyet'!B24:B26)) -> #DIV/0! | L12: =0.35*(('Om verktøyet'!B25+'Om verktøyet'!B26)/SUM('Om verktøyet'!B24:B26)) -> #DIV/0! | M12: =0.05*(('Om verktøyet'!B25+'Om verktøyet'!B26)/SUM('Om verktøyet'!B24:B26)) -> #DIV/0! | N12: =0.05*(('Om verktøyet'!B25+'Om verktøyet'!B26)/SUM('Om verktøyet'!B24:B26)) -> #DIV/0! | O12: =0.1*(('Om verktøyet'!B25+'Om verktøyet'!B26)/SUM('Om verktøyet'!B24:B26)) -> #DIV/0! | P12: =0.1*(('Om verktøyet'!B25+'Om verktøyet'!B26)/SUM('Om verktøyet'!B24:B26)) -> #DIV/0! | Q12: =SUM(K12:P12) -> #DIV/0!
K13: =SUM(K11:K12) -> #DIV/0! | L13: =SUM(L11:L12) -> #DIV/0! | M13: =SUM(M11:M12) -> #DIV/0! | N13: =SUM(N11:N12) -> #DIV/0! | O13: =SUM(O11:O12) -> #DIV/0! | P13: =SUM(P11:P12) -> #DIV/0! | Q13: =SUM(Q11:Q12) -> #DIV/0!
E17: Lavutslipp materialbruk
C18: =IF('Om verktøyet'!$B$43=0,35%,K13) -> 0.35 | E18: Minimere utslipp fra materialbruk til bygg i et livsløpsperspektiv. Potensiell reduksjon i forhold til referansenivå satt i DFØs verktøy for klimagassutslipp fra materialbruk i bygg
E19: https://www.anskaffelser.no/verktoy/analyseverktoy/klimagassutslepp-bygg
F20: 0 | G20: poeng | H20: Ingen tiltak utover krav i KDP
F21: 1 | G21: poeng | H21: Utslippsramme ‘Basis’ iht. DFØ referanseverktøy er oppnådd.
F22: 2 | G22: poeng | H22: Utslippsramme ‘Avansert’ iht. DFØ referanseverktøy er oppnådd.
F23: 3 | G23: poeng | H23: Utslippsramme ‘Spydspiss’ iht. DFØ referanseverktøy er oppnådd.
F24: 4 | G24: poeng | H24: Utslippsramme ‘Spydspiss’ iht. DFØ referanseverktøy er oppnådd. I tillegg gjennomføre klimagassregnskap for grunn og fundamenter, og spesifisere tiltak for å redusere disse utslippene.
E26: Gjenbruk av eksisterende bygg*
E27: Oppfordre til gjenbruk og bevaring av eksisterende bygg i området.
E28: Eksisterende bygg
C29: =IF('Om verktøyet'!$B$43=0,35%,L13) -> 0.35 | F29: 0 | G29: poeng | H29: =IF($E$28=$J$11,"n/a","Ingen tiltak utover krav i KDP til antikvariske bygg.") -> Ingen tiltak utover krav i KDP til antikvariske bygg.
F30: 1 | G30: poeng | H30: =IF($E$28=$J$11,"n/a","Ombrukskartlegging utført for eksisterende bygg.") -> Ombrukskartlegging utført for eksisterende bygg.
F31: 2 | G31: poeng | H31: =IF($E$28=$J$11,"n/a","Minst 10% av materialene (målt i vekt) er ombrukte.") -> Minst 10% av materialene (målt i vekt) er ombrukte.
F32: 3 | G32: poeng | H32: =IF($E$28=$J$11,"n/a","30% av materialene (målt i vekt) er ombrukte.") -> 30% av materialene (målt i vekt) er ombrukte.
F33: 4 | G33: poeng | H33: =IF($E$28=$J$11,"n/a","> 50% av materialene (målt i vekt) er ombrukte.") -> > 50% av materialene (målt i vekt) er ombrukte.
E34: *For tomter uten eksisterende bygninger blir poengene omfordelt til andre kategorier. Se veiledningen for detaljer.
E36: Gjenbruk av bygg i fremtiden
C37: =IF('Om verktøyet'!$B$43=0,5%,M13) -> 0.05 | E37: Legge til rette for gjenbruk og lang levetid for bygg i området. Basert på sjekkliste med tiltak og vurdering beskrevet i veiledningen.
F38: 0 | G38: poeng | H38: Ingen tiltak utover krav i KDP
F39: 1 | G39: poeng | H39: Et av tiltakene i sjekklisten er utført
F40: 2 | G40: poeng | H40: Tre av tiltakene i sjekklisten er utført
F41: 3 | G41: poeng | H41: Fem av tiltakene i sjekklisten er utført
F42: 4 | G42: poeng | H42: Alle tiltakene i sjekklisten er utført
E44: Gjenbruk av materialer i fremtiden
C45: =IF('Om verktøyet'!$B$43=0,5%,N13) -> 0.05 | E45: Legge til rette for fremtidig gjenbruk av materialene som er benyttet i området. Basert på sjekkliste beskrevet i veiledningen.
F46: 0 | G46: poeng | H46: Ingen tiltak utover krav i KDP
F47: 1 | G47: poeng | H47: Punktene i sjekklisten er oppfylt for 10% av materialene (målt i vekt)
F48: 2 | G48: poeng | H48: Punktene i sjekklisten er oppfylt for 50% av materialene (målt i vekt)
F49: 3 | G49: poeng | H49: Punktene i sjekklisten er oppfylt for 80% av materialene (målt i vekt)
F50: 4 | G50: poeng | H50: Punktene i sjekklisten er oppfylt for 100% av materialene
E52: Avfalls- og massehåndtering på byggeplass
C53: =IF('Om verktøyet'!$B$43=0,10%,O13) -> 0.1 | E53: Minimere avfall og oppmuntre til gjenbruk av masser i området.
F54: 0 | G54: poeng | H54: Ingen tiltak utover krav i KDP.
F55: 1 | G55: poeng | H55: Liten grad av reduksjon og gjenbruk av masser og avfall. Kriterier for ressurseffektivitet på byggeplassen i BREEAM-NOR Wst01 (1 poeng).
F56: 2 | G56: poeng | H56: Middels grad av reduksjon og gjenbruk av masser og avfall. Kriterier for økning av ombruk og gjenvinningsgraden i BREEAM-NOR Wst01 (1 poeng).
F57: 3 | G57: poeng | H57: Stor grad av reduksjon og gjenbruk av masser og avfall. Kriterier for økning av ombruk og gjenvinningsgraden i BREEAM-NOR Wst01 (2 poeng).
F58: 4 | G58: poeng | H58: Meget høy grad av reduksjon og gjenbruk av masser og avfall. Kriterier for økning av ombruk og gjenvinningsgraden i BREEAM-NOR Wst01 (mønstergyldig nivå).
E60: Innovasjonspoeng: Materialer
C61: =IF('Om verktøyet'!$B$43=0,10%,P13) -> 0.1 | E61: Innovative tiltak for materialer (som beskrevet i veiledningen).
F62: 0 | G62: poeng | H62: Ingen spesielle tiltak
F63: 1 | G63: poeng | H63: 1 eller flere innovative tiltak
F64: 2 | G64: poeng | H64: 2 eller flere innovative tiltak
F65: 3 | G65: poeng | H65: 3 eller flere innovative tiltak
F66: 4 | G66: poeng | H66: 4 eller flere innovative tiltak

Sheet Resultater
B3: Resultater
M8: =Mobilitet!G3 -> Mobilitet | Q8: =Arealbruk!G3 -> Arealbruk
M9: =Mobilitet!G5 -> 0 | Q9: =Arealbruk!G5 -> 0
M11: 0.25 | Q11: 0.15 | W11: 4.5 | X11: mulig
L12: =Mobilitet!C17 -> 0 | M12: =Mobilitet!E17 -> Bilrestriktive tiltak | N12: =Mobilitet!C18 -> 0.3 | P12: =Arealbruk!C17 -> 0 | Q12: =Arealbruk!E17 -> Grønnstruktur som karbonlager (arealbruksendring) | R12: =Arealbruk!C18 -> 0.4 | W12: =B31 -> 0 | X12: actual
L13: =Mobilitet!C25 -> 0 | M13: =Mobilitet!E25 -> Gangvennlig utforming | N13: =Mobilitet!C26 -> 0.15 | P13: =Arealbruk!C26 -> 0 | Q13: =Arealbruk!E26 -> Attraktive uteområder | R13: =Arealbruk!C27 -> 0.25 | W13: =W11-B31 -> 4.5 | X13: coverup at the top
L14: =Mobilitet!C33 -> 0 | M14: =Mobilitet!E33 -> Sykkelvennlig utforming | N14: =Mobilitet!C34 -> 0.15 | P14: =Arealbruk!C34 -> 0 | Q14: =Arealbruk!E34 -> Høy befolkningstetthet | R14: =Arealbruk!C35 -> 0.25
L15: =Mobilitet!C41 -> 0 | M15: =Mobilitet!E41 -> Tilgang til service- og rekreasjonstilbud | N15: =Mobilitet!C42 -> 0.15 | P15: =Arealbruk!C42 -> 0 | Q15: =Arealbruk!E42 -> Innovasjonspoeng: Fellesfunksjoner | R15: =Arealbruk!C43 -> 0.05
L16: =Mobilitet!C49 -> 0 | M16: =Mobilitet!E49 -> Tilgang til kollektivtransport | N16: =Mobilitet!C50 -> 0.15 | P16: =Arealbruk!C50 -> 0 | Q16: Innovasjonspoeng: Beregning av utslipp | R16: =Arealbruk!C51 -> 0.05
L17: =Mobilitet!C57 -> 0 | M17: =Mobilitet!E57 -> Innovasjonspoeng: Mobilitet | N17: =Mobilitet!C58 -> 0.1
M21: =Energi!G3 -> Energi | Q21: =Materialer!G3 -> Materialer
M22: =Energi!G5 -> 0 | Q22: =Materialer!G5 -> 0
M24: 0.35 | Q24: 0.25
L25: =Energi!C20+Energi!C27 -> 0 | M25: =Energi!E17 -> Energieffektive bygg | N25: =Energi!C21+Energi!C28 -> 0.2 | P25: =Materialer!C17 -> 0 | Q25: =Materialer!E17 -> Lavutslipp materialbruk | R25: =Materialer!C18 -> 0.35
L26: =Energi!C34 -> 0 | M26: =Energi!E34 -> Lavutslipp energiforsyning | N26: =Energi!C35 -> 0.3 | P26: =Materialer!C28 -> 0 | Q26: =Materialer!E26 -> Gjenbruk av eksisterende bygg* | R26: =Materialer!C29 -> 0.35
L27: =Energi!C42 -> 0 | M27: =Energi!E42 -> Lokal fornybar energiproduksjon | N27: =Energi!C43 -> 0.1 | P27: =Materialer!C36 -> 0 | Q27: =Materialer!E36 -> Gjenbruk av bygg i fremtiden | R27: =Materialer!C37 -> 0.05
L28: =Energi!C66 -> 0 | M28: =Energi!E66 -> Lavutslipp energibruk i anleggsfasen | N28: =Energi!C67 -> 0.1 | P28: =Materialer!C44 -> 0 | Q28: =Materialer!E44 -> Gjenbruk av materialer i fremtiden | R28: =Materialer!C45 -> 0.05
B29: Sammenlagt poengsum | L29: =Energi!C50 -> 0 | M29: =Energi!E50 -> Felles infrastruktur for energi | N29: =Energi!C51 -> 0.1 | P29: =Materialer!C52 -> 0 | Q29: =Materialer!E52 -> Avfalls- og massehåndtering på byggeplass | R29: =Materialer!C53 -> 0.1
L30: =Energi!C58 -> 0 | M30: =Energi!E58 -> Infrastruktur for å redusere effektbehov | N30: =Energi!C59 -> 0.1 | P30: =Materialer!C60 -> 0 | Q30: =Materialer!E60 -> Innovasjonspoeng: Materialer | R30: =Materialer!C61 -> 0.1
B31: =Q9*Q11+M9*M11+M22*M24+Q22*Q24 -> 0 | L31: =Energi!C74 -> 0 | M31: =Energi!E74 -> Innovasjonspoeng: Energi | N31: =Energi!C75 -> 0.1
L35: Hoved | M35: Ubhoved | O35: Weight | P35: Value
L36: =Q8 -> Arealbruk | M36: =Q12 -> Grønnstruktur som karbonlager (arealbruksendring) | N36: =O36*$Q$11 -> 0.06 | O36: {=R12:R15} -> 0.4 | P36: =R12*P12*$Q$11/$Q$9 -> #DIV/0!
M37: =Q13 -> Attraktive uteområder | N37: =O37*$Q$11 -> 0.0375 | O37: 0.25 | P37: =R13*P13*$Q$11/$Q$9 -> #DIV/0!
M38: =Q14 -> Høy befolkningstetthet | N38: =O38*$Q$11 -> 0.0375 | O38: 0.25 | P38: =R14*P14*$Q$11/$Q$9 -> #DIV/0!
M39: =Q15 -> Innovasjonspoeng: Fellesfunksjoner | N39: =O39*$Q$11 -> 0.0075 | O39: 0.05 | P39: =R15*P15*$Q$11/$Q$9 -> #DIV/0!
M40: =Q16 -> Innovasjonspoeng: Beregning av utslipp | N40: =O40*$Q$11 -> 0.0075 | O40: =R16 -> 0.05 | P40: =R16*P16*$Q$11/$Q$9 -> #DIV/0!
L41: =M8 -> Mobilitet | M41: =M12 -> Bilrestriktive tiltak | N41: =N12*$M$11 -> 0.075 | O41: {=N12:N17} -> 0.3 | P41: =N12*L12*$M$11/$M$9 -> #DIV/0!
M42: =M13 -> Gangvennlig utforming | N42: =N13*$M$11 -> 0.0375 | O42: 0.15 | P42: =N13*L13*$M$11/$M$9 -> #DIV/0!
M43: =M14 -> Sykkelvennlig utforming | N43: =N14*$M$11 -> 0.0375 | O43: 0.15 | P43: =N14*L14*$M$11/$M$9 -> #DIV/0!
M44: =M15 -> Tilgang til service- og rekreasjonstilbud | N44: =N15*$M$11 -> 0.0375 | O44: 0.15 | P44: =N15*L15*$M$11/$M$9 -> #DIV/0!
M45: =M16 -> Tilgang til kollektivtransport | N45: =N16*$M$11 -> 0.0375 | O45: 0.15 | P45: =N16*L16*$M$11/$M$9 -> #DIV/0!
M46: =M17 -> Innovasjonspoeng: Mobilitet | N46: =N17*$M$11 -> 0.025 | O46: 0.1 | P46: =N17*L17*$M$11/$M$9 -> #DIV/0!
L47: =M21 -> Energi | M47: =M25 -> Energieffektive bygg | N47: =N25*$M$24 -> 0.07 | O47: {=N25:N31} -> 0.2 | P47: =N25*L25*$M$24/$M$22 -> #DIV/0!
M48: =M26 -> Lavutslipp energiforsyning | N48: =N26*$M$24 -> 0.105 | O48: 0.3 | P48: =N26*L26*$M$24/$M$22 -> #DIV/0!
M49: =M27 -> Lokal fornybar energiproduksjon | N49: =N27*$M$24 -> 0.035 | O49: 0.1 | P49: =N27*L27*$M$24/$M$22 -> #DIV/0!
M50: =M28 -> Lavutslipp energibruk i anleggsfasen | N50: =N28*$M$24 -> 0.035 | O50: 0.1 | P50: =N28*L28*$M$24/$M$22 -> #DIV/0!
M51: =M29 -> Felles infrastruktur for energi | N51: =N29*$M$24 -> 0.035 | O51: 0.1 | P51: =N29*L29*$M$24/$M$22 -> #DIV/0!
M52: =M30 -> Infrastruktur for å redusere effektbehov | N52: =N30*$M$24 -> 0.035 | O52: 0.1 | P52: =N30*L30*$M$24/$M$22 -> #DIV/0!
M53: =M31 -> Innovasjonspoeng: Energi | N53: =N31*$M$24 -> 0.035 | O53: 0.1 | P53: =N31*L31*$M$24/$M$22 -> #DIV/0!
L54: =Q21 -> Materialer | M54: =Q25 -> Lavutslipp materialbruk | N54: =R25*$Q$24 -> 0.0875 | O54: {=R25:R30} -> 0.35 | P54: =R25*P25*$Q$24/$Q$22 -> #DIV/0!
M55: =Q26 -> Gjenbruk av eksisterende bygg* | N55: =R26*$Q$24 -> 0.0875 | O55: 0.35 | P55: =R26*P26*$Q$24/$Q$22 -> #DIV/0!
M56: =Q27 -> Gjenbruk av bygg i fremtiden | N56: =R27*$Q$24 -> 0.0125 | O56: 0.05 | P56: =R27*P27*$Q$24/$Q$22 -> #DIV/0!
M57: =Q28 -> Gjenbruk av materialer i fremtiden | N57: =R28*$Q$24 -> 0.0125 | O57: 0.05 | P57: =R28*P28*$Q$24/$Q$22 -> #DIV/0!
M58: =Q29 -> Avfalls- og massehåndtering på byggeplass | N58: =R29*$Q$24 -> 0.025 | O58: 0.1 | P58: =R29*P29*$Q$24/$Q$22 -> #DIV/0!
M59: =Q30 -> Innovasjonspoeng: Materialer | N59: =R30*$Q$24 -> 0.025 | O59: 0.1 | P59: =R30*P30*$Q$24/$Q$22 -> #DIV/0!
